BEGIN:VCALENDAR
VERSION:2.0
PRODID:-//wp-events-plugin.com//7.2.3.1//EN
TZID:Europe/Berlin
X-WR-TIMEZONE:Europe/Berlin
BEGIN:VEVENT
UID:1@ridetime.de
DTSTART;TZID=Europe/Berlin:20230125T183000
DTEND;TZID=Europe/Berlin:20230125T213000
DTSTAMP:20230128T165104Z
URL:https://ridetime.de/termine/stubenabend-25-01-2023/
SUMMARY:Stubenabend
DESCRIPTION:⭐SAVE THE DATE - Stubenabend am 25.01.2023⭐\nWir laden Euch
  zu unserem ersten Stubenabend in der Talstation Heumöderntal ein!\nKommt
  zusammen\, genießt leckeres Essen in unserer gemütlichen Stube. Euer Ta
 lstation Team freut sich\, euch mit hausgemachten Spezialitäten zu verwö
 hnen. Lasst uns gemeinsam eine schöne Zeit unter Freunden haben.�\n\nWa
 s erwartet euch?\n\n🍲 Ein 3-Gänge Menü - mit viel Liebe von unserer T
 alstation-Küchenchefin Martina zubereitet 🤎👩‍🍳\n🌱 auf Wunsc
 h vegan / vegetarisch\n\n\n\n📅 Mittwoch\, 25.01.2023 - Beginn 18.30 Uhr
 \n\nPreis pro Person: Pay\, what you want!\n(Auf Spendenbasis - du gibst\,
  was dir das Essen wert ist. Exklusive Getränke\, diese werden normal ber
 echnet!)
ATTACH;FMTTYPE=image/jpeg:https://ridetime.de/wp-content/uploads/2023/01/3
 24152083_571845668145195_5692712978451420440_nfull.jpg
CATEGORIES:Talstation Stubenabend
LOCATION:Talstation Heumöderntal\, Uhlbergstraße 54\, Treuchtlingen\, Bay
 ern\, 91757\, Deutschland
X-APPLE-STRUCTURED-LOCATION;VALUE=URI;X-ADDRESS=Uhlbergstraße 54\, Treucht
 lingen\, Bayern\, 91757\, Deutschland;X-APPLE-RADIUS=100;X-TITLE=Talstatio
 n Heumöderntal:geo:0,0
END:VEVENT
BEGIN:VTIMEZONE
TZID:Europe/Berlin
X-LIC-LOCATION:Europe/Berlin
BEGIN:STANDARD
DTSTART:20221030T020000
TZOFFSETFROM:+0200
TZOFFSETTO:+0100
TZNAME:CET
END:STANDARD
END:VTIMEZONE
END:VCALENDAR